BEGIN:VCALENDAR
VERSION:2.0
PRODID:-//eventon.com NONSGML v1.0//EN
CALSCALE:GREGORIAN
METHOD:PUBLISH
BEGIN:VEVENT
UID:69e5e61997aa8
DTSTAMP:20260420T083849Z
DTSTART:20231101T173000Z
DTEND:20231101T190000Z
LOCATION:Scalateatern Västra Torggatan 1\,  Karlstad
SUMMARY:Motivationsshow i Karlstad
DESCRIPTION:Showen är skapad runt Magdalena Forsberg och Tobias Karlssons 
 bok “Hitta motivationen – genom livets toppar och dalar”. Paret bjude
 r dig\,  tillsammans med sina vänner\,  på en upplevelse utöver det vanl
 iga. Det lovas en känslomässig berg- och dalbana och allt kantat med sån
 g\,  dans och SHOW. Gyncancerförbundet bjuder sina medlemmar[..]\nhttps://
 gyncancerforbundet.se/events/motivationsshow-i-karlstad/
URL:https://gyncancerforbundet.se/events/motivationsshow-i-karlstad/
END:VEVENT
END:VCALENDAR