BEGIN:VCALENDAR
VERSION:2.0
PRODID:-//eventon.com NONSGML v1.0//EN
CALSCALE:GREGORIAN
METHOD:PUBLISH
BEGIN:VEVENT
UID:69e74c7d6cb9c
DTSTAMP:20260421T100757Z
DTSTART:20231127T170000Z
DTEND:20231127T190000Z
LOCATION:Brasseri 21 Sjukhusvägen 12 A\,  Uppsala
SUMMARY:Fikaträff på Brasseri 21 Uppsala
DESCRIPTION:Nya och gamla medlemmar är välkomna. Vi träffas fikar och um
 gås\,  ingen anmälan bara att komma mellan 18-20 Föreningen bjuder på &
 #8221;matigare&#8221;fika&nbsp; Välkomna&nbsp;\nhttps://gyncancerforbundet
 .se/events/fikatraff-pa-espresso-house-centralstationen-uppsala/
URL:https://gyncancerforbundet.se/events/fikatraff-pa-espresso-house-centralstationen-uppsala/
END:VEVENT
END:VCALENDAR