BEGIN:VCALENDAR
VERSION:2.0
PRODID:-//eventon.com NONSGML v1.0//EN
CALSCALE:GREGORIAN
METHOD:PUBLISH
BEGIN:VEVENT
UID:69e5e280eb5c5
DTSTAMP:20260420T082328Z
DTSTART:20230621T143000Z
DTEND:20230621T180000Z
LOCATION:Östra Storgatan 2\,  Jönköping
SUMMARY:Café träff
DESCRIPTION:Anmälan till Eva.Molnar@live.se senast 20/6\nhttps://gyncancer
 forbundet.se/events/cafe-traff/
URL:https://gyncancerforbundet.se/events/cafe-traff/
END:VEVENT
END:VCALENDAR