BEGIN:VCALENDAR
VERSION:2.0
PRODID:-//eventon.com NONSGML v1.0//EN
CALSCALE:GREGORIAN
METHOD:PUBLISH
BEGIN:VEVENT
UID:69e5e1e699bc2
DTSTAMP:20260420T082054Z
DTSTART:20231102T180000Z
DTEND:20231101T230000Z
LOCATION:Västerås konserthus Kopparbergsvägen 1\,  Västerås
SUMMARY:Konsert med The Legends (Elvis\,  Roy och Jerry)\,  Västerås
DESCRIPTION:AKTIVITET På samma scen – i samma show – ser vi några av 
 världens främsta tolkare av Elvis\,  Jerry Lee och Roy Orbinsson. Sedan 2
 001 har the Legens levererat sina makalösa nostalgishower\,  man rankas so
 m en av världens mest träffsäkraste och påkostade shower i sin genre. G
 yncancerförbundet bjuder sina medlemmar\, [..]\nhttps://gyncancerforbundet
 .se/events/konsert-med-the-legends-elvis-roy-och-jerry-6/
URL:https://gyncancerforbundet.se/events/konsert-med-the-legends-elvis-roy-och-jerry-6/
END:VEVENT
END:VCALENDAR