BEGIN:VCALENDAR
VERSION:2.0
PRODID:-//eventon.com NONSGML v1.0//EN
CALSCALE:GREGORIAN
METHOD:PUBLISH
BEGIN:VEVENT
UID:69e60eafe6fcb
DTSTAMP:20260420T113159Z
DTSTART:20260607T130000Z
DTEND:20260607T235900Z
LOCATION:Skärgårdshotellet Hönö Västra Vägen 17
SUMMARY:Utflykt till Hönö med GCF Västra Götaland
DESCRIPTION: Utflykt till Hönö med gemensam lunch. För de som vill finn
 s möjlighet till bad\,  promenad\,  shopping. Vi ses kl. 13 på Skärgård
 shotellet i Hönö-Klåva. Anmälan sker till Nina senast 3 juni\,  tel: 07
 6-172 81 06.\nhttps://gyncancerforbundet.se/events/utflykt-till-hono-med-gc
 f-vastra-gotaland/
URL:https://gyncancerforbundet.se/events/utflykt-till-hono-med-gcf-vastra-gotaland/
END:VEVENT
END:VCALENDAR