BEGIN:VCALENDAR
VERSION:2.0
PRODID:-//eventon.com NONSGML v1.0//EN
CALSCALE:GREGORIAN
METHOD:PUBLISH
BEGIN:VEVENT
UID:69e61111c5ad9
DTSTAMP:20260420T114209Z
DTSTART:20260516
DTEND:20260517
LOCATION:Varbergs Stadshotell &amp; Asia Spa Kungsgatan 24-26
SUMMARY:Halvdag på Asia Spa med GCF Västra Götaland
DESCRIPTION:En morgon med spa\,  på Asia Spa i Varberg\,  som avslutas med
  lunch. Egenavgift 200 kr. Detta är en aktivitet i samarbete med lokalför
 eningen i Halland. Vi kommer att försöka ordna en extra spa-dag även sen
 are under året. Om man inte kan följa med ner till Varberg så kan det[..
 ]\nhttps://gyncancerforbundet.se/events/halvdag-pa-asia-spa-med-gcf-vastra-
 gotaland/
URL:https://gyncancerforbundet.se/events/halvdag-pa-asia-spa-med-gcf-vastra-gotaland/
END:VEVENT
END:VCALENDAR