BEGIN:VCALENDAR
VERSION:2.0
PRODID:-//eventon.com NONSGML v1.0//EN
CALSCALE:GREGORIAN
METHOD:PUBLISH
BEGIN:VEVENT
UID:69e60f5ea3132
DTSTAMP:20260420T113454Z
DTSTART:20260426T120000Z
DTEND:20260426T140000Z
LOCATION:Rosenkaféet\,  Trädgårdsföreningen
SUMMARY:Lunchträff med GCF Västra Götaland
DESCRIPTION:Lunchträff på Rosenkaféet\,  Trädgårdsföreningen i Göteb
 org. Vi träffas vid ingången på Rosenkaféet. Anmälan sker till Nina se
 nast 24 april\,  tel: 076-172 81 06.\nhttps://gyncancerforbundet.se/events/
 lunchtraff-med-gcf-vastra-gotaland-3/
URL:https://gyncancerforbundet.se/events/lunchtraff-med-gcf-vastra-gotaland-3/
END:VEVENT
END:VCALENDAR