BEGIN:VCALENDAR
VERSION:2.0
PRODID:-//eventon.com NONSGML v1.0//EN
CALSCALE:GREGORIAN
METHOD:PUBLISH
BEGIN:VEVENT
UID:69e60a70a4f26
DTSTAMP:20260420T111352Z
DTSTART:20260521
DTEND:20260522
LOCATION:
SUMMARY:Extra årsmöte för GCF Halland
DESCRIPTION:Det kommer att bli ett extra årsmöte 21 maj\,  tid och plats 
 ej bestämt än. Läs mer info på GCF Hallands föreningssida om orsak til
 l extra årsmöte.\nhttps://gyncancerforbundet.se/events/extra-arsmote-for-
 gcf-halland/
URL:https://gyncancerforbundet.se/events/extra-arsmote-for-gcf-halland/
END:VEVENT
END:VCALENDAR