BEGIN:VCALENDAR
VERSION:2.0
PRODID:-//eventon.com NONSGML v1.0//EN
CALSCALE:GREGORIAN
METHOD:PUBLISH
BEGIN:VEVENT
UID:69e88ce38a1bc
DTSTAMP:20260422T085459Z
DTSTART:20260407T120000Z
DTEND:20260407T235900Z
LOCATION:Blekingeporten SkÃ¥nevÃ¤gen 32\,  SÃ¶lvesborg
SUMMARY:Ã…rsmÃ¶te fÃ¶r GCF Blekinge-SmÃ¥land
DESCRIPTION:Ã…rsmÃ¶tet Ã¤r planerat till tisdagen 7/4 pÃ¥ Blekingeporten i 
 SÃ¶lvesborg. Vi bÃ¶rjar klockan 12.00 med lunch och sedan hÃ¥ller vi mÃ¶tet
 . Ã„ven hÃ¤r gÃ¤ller det att GCF Blekinge-SmÃ¥land bjuder sina medlemmar pÃ
 ¥ lunchen. MedfÃ¶ljande vÃ¤nner och slÃ¤ktingar stÃ¥r fÃ¶r sina egna kostna
 der. Alla Ã¤r vÃ¤lkomna! Ingen fÃ¶ranmÃ¤lan krÃ¤vs men vi[..]\nhttps://gync
 ancerforbundet.se/events/arsmote-for-gcf-blekinge-smaland/
URL:https://gyncancerforbundet.se/events/arsmote-for-gcf-blekinge-smaland/
END:VEVENT
END:VCALENDAR