BEGIN:VCALENDAR
VERSION:2.0
PRODID:-//eventon.com NONSGML v1.0//EN
CALSCALE:GREGORIAN
METHOD:PUBLISH
BEGIN:VEVENT
UID:69e610e265f94
DTSTAMP:20260420T114122Z
DTSTART:20260523
DTEND:20260524
LOCATION:
SUMMARY:Smaka på Hälsningland med GCF Gävleborg och Hudiksvall
DESCRIPTION:Följ med oss på en upplevelseresa i Hälsingland\,  ett lands
 kap med många upplevelser! Vi har valt ut några guldkorn. Första stopp b
 lir Hudiksvall och Köpmanberget\,  en fin utsiktspunkt över Hälsinglands
  största stad. Busscafèt öppnar och serverar kaffe/smörgås. På slingr
 iga vägar kommer vi till Näsviken och Linspinneriet. Resan fortsätter p
  ”turistvägen”[..]\nhttps://gyncancerforbundet.se/events/smaka-pa-hal
 sningland-med-gcf-gavleborg-och-hudiksvall/
URL:https://gyncancerforbundet.se/events/smaka-pa-halsningland-med-gcf-gavleborg-och-hudiksvall/
END:VEVENT
END:VCALENDAR