BEGIN:VCALENDAR
VERSION:2.0
PRODID:-//eventon.com NONSGML v1.0//EN
CALSCALE:GREGORIAN
METHOD:PUBLISH
BEGIN:VEVENT
UID:69e5f8dabb097
DTSTAMP:20260420T095850Z
DTSTART:20260308T121500Z
DTEND:20260308T235900Z
LOCATION:Hallwylska muséet Hamngatan 4\,  Stockholm
SUMMARY:Hallwylska muséet med GCF Stockholm-Uppsala
DESCRIPTION:\nhttps://gyncancerforbundet.se/events/hallwylska-museet-med-gc
 f-stockholm-uppsala/
URL:https://gyncancerforbundet.se/events/hallwylska-museet-med-gcf-stockholm-uppsala/
END:VEVENT
END:VCALENDAR