BEGIN:VCALENDAR
VERSION:2.0
PRODID:-//eventon.com NONSGML v1.0//EN
CALSCALE:GREGORIAN
METHOD:PUBLISH
BEGIN:VEVENT
UID:69e74c2abf749
DTSTAMP:20260421T100634Z
DTSTART:20260517
DTEND:20260518
LOCATION:Miniature Kingdom Kungsgatan 35\,  Kungsör
SUMMARY:Våravslutning med GCF Västmanland
DESCRIPTION:17/5 Våravslutning med utflykt till Miniature Kingdom\,  Kungs
 gatan 35 Kungsör. Mer info kommer!\nhttps://gyncancerforbundet.se/events/v
 aravslutning-med-gcf-vastmanland/
URL:https://gyncancerforbundet.se/events/varavslutning-med-gcf-vastmanland/
END:VEVENT
END:VCALENDAR