BEGIN:VCALENDAR
VERSION:2.0
PRODID:-//eventon.com NONSGML v1.0//EN
CALSCALE:GREGORIAN
METHOD:PUBLISH
BEGIN:VEVENT
UID:69e752b2cc1b6
DTSTAMP:20260421T103426Z
DTSTART:20260426T150000Z
DTEND:20260426T235900Z
LOCATION:Café Malin Västra Kyrkogatan 6\,  Västerås
SUMMARY:Fikaträff med GCF Västmanland
DESCRIPTION:26/4 Fikaträff  kl: 15.00 på Café Malin\,  Västra Kyrkogat
 an 6\,  Västerås\nhttps://gyncancerforbundet.se/events/fikatraff-med-gcf-
 vastmanland-10/
URL:https://gyncancerforbundet.se/events/fikatraff-med-gcf-vastmanland-10/
END:VEVENT
END:VCALENDAR