BEGIN:VCALENDAR
VERSION:2.0
PRODID:-//eventon.com NONSGML v1.0//EN
CALSCALE:GREGORIAN
METHOD:PUBLISH
BEGIN:VEVENT
UID:69e5e6f156717
DTSTAMP:20260420T084225Z
DTSTART:20260228T130000Z
DTEND:20260228T160000Z
LOCATION:Livli shoppingcenter Modulvägen 6\,  Kungens kurva
SUMMARY:GCF Stockholm-Uppsala deltar på Hälsomässa.
DESCRIPTION:GCF Stockholm-Uppsala deltar på hälsomässan på Livli shoppi
 ngcenter\,  Kungens kurva. Mässan kommer att vara  full med hälsoaktöre
 r och hälsoföreningar och hälsoorganisationer. Mässan är gratis för a
 lla besökare. Länk till mässan för mer info\nhttps://gyncancerforbundet
 .se/events/gcf-stockholm-uppsala-deltar-pa-halsomassa/
URL:https://gyncancerforbundet.se/events/gcf-stockholm-uppsala-deltar-pa-halsomassa/
END:VEVENT
END:VCALENDAR