BEGIN:VCALENDAR
VERSION:2.0
PRODID:-//eventon.com NONSGML v1.0//EN
CALSCALE:GREGORIAN
METHOD:PUBLISH
BEGIN:VEVENT
UID:69e8a2499b5c4
DTSTAMP:20260422T102617Z
DTSTART:20260418T100000Z
DTEND:20260419T140000Z
LOCATION:Welcome hotel &amp; Spa Notarievägen 5\,  Järfälla
SUMMARY:Kunskapsdag & Riksstämma 18-19 april
DESCRIPTION:\nhttps://gyncancerforbundet.se/events/kunskapsdag-riksstamma-1
 8-19-april/
URL:https://gyncancerforbundet.se/events/kunskapsdag-riksstamma-18-19-april/
END:VEVENT
END:VCALENDAR