BEGIN:VCALENDAR
VERSION:2.0
PRODID:-//eventon.com NONSGML v1.0//EN
CALSCALE:GREGORIAN
METHOD:PUBLISH
BEGIN:VEVENT
UID:69e5f63b6381f
DTSTAMP:20260420T094739Z
DTSTART:20260327T130000Z
DTEND:20260327T235900Z
LOCATION:Except Kastellvägen 2C\,  Hudiksvall
SUMMARY:Må bra-dag i Hudiksvall
DESCRIPTION:Aktivitet i Hudiksvall tillsammans med Sundsvall. Fredag 27 mar
 s kl.13.00 anordnar vi en ”må bra dag” i Hudiksvall med yoga på Trän
 ingsvarvet och en spaupplevelse kl.14.30 på Except samt enklare förtärin
 g. Vi träffas på Träningsvarvet 12.45 för att gemensamt ta oss till yog
 asalen. Vi börjar med yinyoga i yogasalen på[..]\nhttps://gyncancerforbun
 det.se/events/ma-bra-dag-i-hudiksvall/
URL:https://gyncancerforbundet.se/events/ma-bra-dag-i-hudiksvall/
END:VEVENT
END:VCALENDAR