BEGIN:VCALENDAR
VERSION:2.0
PRODID:-//eventon.com NONSGML v1.0//EN
CALSCALE:GREGORIAN
METHOD:PUBLISH
BEGIN:VEVENT
UID:69e74ca8dfb46
DTSTAMP:20260421T100840Z
DTSTART:20260425T113000Z
DTEND:20260425T235900Z
LOCATION:
SUMMARY:Gyncancerdagen 2026
DESCRIPTION:Nätverket mot gynekologisk cancer anordnar i år Gyncancerdage
 n\,  lördag 25 april! Dagen som är helt digital\,  innehåller spännande
  föredrag och diskussioner om bland annat de olika gyncancerdiagnoserna oc
 h ärftlighet. Vi lyfter jämlik vård samt tittar på framtidens behandlin
 gar. Detta är helt enkelt en dag du INTE vill missa! HÄR kan du[..]\nhtt
 ps://gyncancerforbundet.se/events/gyncancerdagen-2026/
URL:https://gyncancerforbundet.se/events/gyncancerdagen-2026/
END:VEVENT
END:VCALENDAR