BEGIN:VCALENDAR
VERSION:2.0
PRODID:-//eventon.com NONSGML v1.0//EN
CALSCALE:GREGORIAN
METHOD:PUBLISH
BEGIN:VEVENT
UID:69e76156bd276
DTSTAMP:20260421T113654Z
DTSTART:20260328T110000Z
DTEND:20260328T235900Z
LOCATION:IKSU Spa J A Linders väg 53\,  Umeå
SUMMARY:Spa-dag med GCF Västerbotten
DESCRIPTION:GCF Västerbotten bjuder sina medlemmar på spa. Lördag 28 mar
 s kl 11 möts vi på IKSU spa på J A Linders väg 53. Föreningen bekostar
  inträde och eventuell övernattning för långväga medlemmar. Anmälan t
 ill ordförande Jessica senast en vecka i förväg.\nhttps://gyncancerforbu
 ndet.se/events/spa-dag-med-gcf-vasterbotten/
URL:https://gyncancerforbundet.se/events/spa-dag-med-gcf-vasterbotten/
END:VEVENT
END:VCALENDAR