BEGIN:VCALENDAR
VERSION:2.0
PRODID:-//eventon.com NONSGML v1.0//EN
CALSCALE:GREGORIAN
METHOD:PUBLISH
BEGIN:VEVENT
UID:69e74ca2c68cd
DTSTAMP:20260421T100834Z
DTSTART:20260322T140000Z
DTEND:20260322T160000Z
LOCATION:Hotell Björken Lasarettsbacken 10\,  Umeå
SUMMARY:Årsmöte för GCF Västerbotten
DESCRIPTION:GCF Västerbotten kallar till årsmöte söndag 22 mars kl 14-1
 6 på Hotell Björken.\nhttps://gyncancerforbundet.se/events/arsmote-med-gc
 f-vasterbotten/
URL:https://gyncancerforbundet.se/events/arsmote-med-gcf-vasterbotten/
END:VEVENT
END:VCALENDAR