BEGIN:VCALENDAR
VERSION:2.0
PRODID:-//eventon.com NONSGML v1.0//EN
CALSCALE:GREGORIAN
METHOD:PUBLISH
BEGIN:VEVENT
UID:69e74d4b81f3c
DTSTAMP:20260421T101123Z
DTSTART:20230911T163000Z
DTEND:20230911T190000Z
LOCATION:Bokelundsskolan Aula Idrottsvägen 1\,  Sölvesborg
SUMMARY:Föreläsning med Torkild Sköld\,  Sölvesborg
DESCRIPTION:Gyncancerförbundet bjuder medlemmar på föreläsning med Tork
 ild Sköld. Föreläsningen handlar om förmågan att leda sig själv och a
 tt träna på hur vi förhåller oss till det som sker. En inspirerande fö
 reläsning full av insikter\,  skratt och konkreta verktyg för att uppnå 
 det vi vill. Anmälan och betalning se nedan länk[..]\nhttps://gyncancerfo
 rbundet.se/events/forelasning-med-torskild-skold-solvesborg/
URL:https://gyncancerforbundet.se/events/forelasning-med-torskild-skold-solvesborg/
END:VEVENT
END:VCALENDAR