BEGIN:VCALENDAR
VERSION:2.0
PRODID:-//eventon.com NONSGML v1.0//EN
CALSCALE:GREGORIAN
METHOD:PUBLISH
BEGIN:VEVENT
UID:69e5f92788c12
DTSTAMP:20260420T100007Z
DTSTART:20260315T120000Z
DTEND:20260315T140000Z
LOCATION:Radisson Blu Hotel Göteborg
SUMMARY:Årsmöte för GCF Västra Götaland
DESCRIPTION:Årsmöte kommer att hållas på Radisson Blu Hotel kl.12-14. K
 l.12:30 öppnar deras brunch som vi äter under årsmötet. Brunchen bjuder
  föreningen på. Vi möts i foajén kl.12! Motioner till årsmötet skicka
 s in senast 21 februari till gcfvastragotaland@gyncancerforbundet.se Dokume
 nt inför årsmötet kommer att mailas ut senast 22 februari samt publicera
 s under[..]\nhttps://gyncancerforbundet.se/events/arsmote-med-gcf-vastra-go
 taland/
URL:https://gyncancerforbundet.se/events/arsmote-med-gcf-vastra-gotaland/
END:VEVENT
END:VCALENDAR