BEGIN:VCALENDAR
VERSION:2.0
PRODID:-//eventon.com NONSGML v1.0//EN
CALSCALE:GREGORIAN
METHOD:PUBLISH
BEGIN:VEVENT
UID:69e5f94abcefe
DTSTAMP:20260420T100042Z
DTSTART:20260614
DTEND:20260615
LOCATION:Loka Brunn 71294 Grythyttan
SUMMARY:Dagspa och sommaravslutning med GCF Örebro
DESCRIPTION:Sommaravslutning för GCF Örebro! Vi träffas på Loka Brunn f
 ör dagspa och lunch. Mer info kommer senare!\nhttps://gyncancerforbundet.s
 e/events/dagspa-och-sommaravslutning-med-gcf-orebro/
URL:https://gyncancerforbundet.se/events/dagspa-och-sommaravslutning-med-gcf-orebro/
END:VEVENT
END:VCALENDAR