BEGIN:VCALENDAR
VERSION:2.0
PRODID:-//eventon.com NONSGML v1.0//EN
CALSCALE:GREGORIAN
METHOD:PUBLISH
BEGIN:VEVENT
UID:69e5e6f4099ad
DTSTAMP:20260420T084228Z
DTSTART:20260521T180000Z
DTEND:20260521T235900Z
LOCATION:Så mycket mer Klostergatan 2\,  Örebro
SUMMARY:Fikaträff med GCF Örebro
DESCRIPTION:GCF Örebro bjuder på fika!\nhttps://gyncancerforbundet.se/eve
 nts/fikatraff-med-gcf-orebro-3/
URL:https://gyncancerforbundet.se/events/fikatraff-med-gcf-orebro-3/
END:VEVENT
END:VCALENDAR