BEGIN:VCALENDAR
VERSION:2.0
PRODID:-//eventon.com NONSGML v1.0//EN
CALSCALE:GREGORIAN
METHOD:PUBLISH
BEGIN:VEVENT
UID:69e5f5c1da57c
DTSTAMP:20260420T094537Z
DTSTART:20260426T110000Z
DTEND:20260426T235900Z
LOCATION:
SUMMARY:Yoga & Brunch med GCF Örebro
DESCRIPTION:Boka in datumet i kalendern\,  mer info kommer inom kort!\nhttp
 s://gyncancerforbundet.se/events/yoga-brunch-med-gcf-orebro/
URL:https://gyncancerforbundet.se/events/yoga-brunch-med-gcf-orebro/
END:VEVENT
END:VCALENDAR