BEGIN:VCALENDAR
VERSION:2.0
PRODID:-//eventon.com NONSGML v1.0//EN
CALSCALE:GREGORIAN
METHOD:PUBLISH
BEGIN:VEVENT
UID:69e5f6374d1e9
DTSTAMP:20260420T094735Z
DTSTART:20260312T190000Z
DTEND:20260312T235900Z
LOCATION:
SUMMARY:Sip and paint med GCF Örebro
DESCRIPTION:Mer info och plats kommer inom kort!\nhttps://gyncancerforbunde
 t.se/events/sip-and-paint-med-gcf-orebro/
URL:https://gyncancerforbundet.se/events/sip-and-paint-med-gcf-orebro/
END:VEVENT
END:VCALENDAR