BEGIN:VCALENDAR
VERSION:2.0
PRODID:-//eventon.com NONSGML v1.0//EN
CALSCALE:GREGORIAN
METHOD:PUBLISH
BEGIN:VEVENT
UID:69e8a1369f313
DTSTAMP:20260422T102142Z
DTSTART:20260319T180000Z
DTEND:20260319T235900Z
LOCATION:
SUMMARY:Årsmöte för GCF Örebro
DESCRIPTION:Mer info om tid och plats kommer inom kort.\nhttps://gyncancerf
 orbundet.se/events/arsmote-med-gcf-orebro/
URL:https://gyncancerforbundet.se/events/arsmote-med-gcf-orebro/
END:VEVENT
END:VCALENDAR