BEGIN:VCALENDAR
VERSION:2.0
PRODID:-//eventon.com NONSGML v1.0//EN
CALSCALE:GREGORIAN
METHOD:PUBLISH
BEGIN:VEVENT
UID:69e753643a058
DTSTAMP:20260421T103724Z
DTSTART:20260212T180000Z
DTEND:20260212T235900Z
LOCATION:Så mycket mer Klostergatan 2\,  Örebro
SUMMARY:Fikaträff med GCF Örebro
DESCRIPTION:GCF Örebro bjuder på fika! Anmäl dig senast 11 februari till
  gcforebro@gyncancerforbundet.se\nhttps://gyncancerforbundet.se/events/fika
 traff-med-gcf-orebro-2/
URL:https://gyncancerforbundet.se/events/fikatraff-med-gcf-orebro-2/
END:VEVENT
END:VCALENDAR