BEGIN:VCALENDAR
VERSION:2.0
PRODID:-//eventon.com NONSGML v1.0//EN
CALSCALE:GREGORIAN
METHOD:PUBLISH
BEGIN:VEVENT
UID:69e5e1e9db142
DTSTAMP:20260420T082057Z
DTSTART:20230906T163000Z
DTEND:20230906T190000Z
LOCATION:Kulturhuset Glada Hudik Storgatan 37\,  Hudiksvall
SUMMARY:Föreläsning med Torkild Sköld\,  Hudiksvall
DESCRIPTION:Gyncancerförbundet bjuder medlemmar på föreläsning med Tork
 ild Sköld. Föreläsningen handlar om förmågan att leda sig själv och a
 tt träna på hur vi förhåller oss till det som sker. En inspirerande fö
 reläsning full av insikter\,  skratt och konkreta verktyg för att uppnå 
 det vi vill. Anmälan och betalning se nedan länk[..]\nhttps://gyncancerfo
 rbundet.se/events/forelasning-med-torskild-skold-hudiksvall/
URL:https://gyncancerforbundet.se/events/forelasning-med-torskild-skold-hudiksvall/
END:VEVENT
END:VCALENDAR