BEGIN:VCALENDAR
VERSION:2.0
PRODID:-//eventon.com NONSGML v1.0//EN
CALSCALE:GREGORIAN
METHOD:PUBLISH
BEGIN:VEVENT
UID:69e5e2778cab9
DTSTAMP:20260420T082319Z
DTSTART:20230905T163000Z
DTEND:20230905T190000Z
LOCATION:Paraden Ådalsvägen 15\,  Härnösand
SUMMARY:Föreläsning med Torkild Sköld\,  Härnösand
DESCRIPTION:Gyncancerförbundet bjuder medlemmar på föreläsning med Tork
 ild Sköld. Föreläsningen handlar om förmågan att leda sig själv och a
 tt träna på hur vi förhåller oss till det som sker. En inspirerande fö
 reläsning full av insikter\,  skratt och konkreta verktyg för att uppnå 
 det vi vill. Anmälan och betalning se nedan länk[..]\nhttps://gyncancerfo
 rbundet.se/events/forelasning-med-torskild-skold-harnosand/
URL:https://gyncancerforbundet.se/events/forelasning-med-torskild-skold-harnosand/
END:VEVENT
END:VCALENDAR