BEGIN:VCALENDAR
VERSION:2.0
PRODID:-//eventon.com NONSGML v1.0//EN
CALSCALE:GREGORIAN
METHOD:PUBLISH
BEGIN:VEVENT
UID:69e5e64145a66
DTSTAMP:20260420T083929Z
DTSTART:20230904T163000Z
DTEND:20230904T190000Z
LOCATION:Dragonskolans Aula entree Väst Dragongatan 1\,  Umeå
SUMMARY:Föreläsning med Torkild Sköld\,  Umeå
DESCRIPTION:Gyncancerförbundet bjuder medlemmar på föreläsning med Tork
 ild Sköld. Föreläsningen handlar om förmågan att leda sig själv och a
 tt träna på hur vi förhåller oss till det som sker. En inspirerande fö
 reläsning full av insikter\,  skratt och konkreta verktyg för att uppnå 
 det vi vill. Anmälan och betalning se nedan länk[..]\nhttps://gyncancerfo
 rbundet.se/events/forelasning-med-torskild-skold-umea/
URL:https://gyncancerforbundet.se/events/forelasning-med-torskild-skold-umea/
END:VEVENT
END:VCALENDAR