BEGIN:VCALENDAR
VERSION:2.0
PRODID:-//eventon.com NONSGML v1.0//EN
CALSCALE:GREGORIAN
METHOD:PUBLISH
BEGIN:VEVENT
UID:69e60d7b84bdb
DTSTAMP:20260420T112651Z
DTSTART:20260422T140000Z
DTEND:20260422T160000Z
LOCATION:Inez &amp; Gretas Café &amp; Bageri Litorinavägen 18 Snöstorp Halmstad
SUMMARY:Fikaträff med GCF Halland
DESCRIPTION:Vi samlas på fikaträff den 22 april kl 14.00. Denna gång ses
  vi på Inez &amp; Gretas Café &amp; Bageri på Snöstorp i Halmstad. För
 eningen bjuder på fika. Ingen anmälan behövs.\nhttps://gyncancerforbunde
 t.se/events/fikatraff-med-gcf-halland-3/
URL:https://gyncancerforbundet.se/events/fikatraff-med-gcf-halland-3/
END:VEVENT
END:VCALENDAR