BEGIN:VCALENDAR
VERSION:2.0
PRODID:-//eventon.com NONSGML v1.0//EN
CALSCALE:GREGORIAN
METHOD:PUBLISH
BEGIN:VEVENT
UID:69e60cf62a2f3
DTSTAMP:20260420T112438Z
DTSTART:20260825T180000Z
DTEND:20260825T200000Z
LOCATION:City Café\,  Gävle Drottninggatan 4\,  Gävle
SUMMARY:Fikaträff med GCF Gävleborg
DESCRIPTION:Fikaträff på City Café\,  sista tisdagen varje månad kl.18-
 20.\nhttps://gyncancerforbundet.se/events/fikatraff-med-gcf-gavleborg-11/
URL:https://gyncancerforbundet.se/events/fikatraff-med-gcf-gavleborg-11/
END:VEVENT
END:VCALENDAR