BEGIN:VCALENDAR
VERSION:2.0
PRODID:-//eventon.com NONSGML v1.0//EN
CALSCALE:GREGORIAN
METHOD:PUBLISH
BEGIN:VEVENT
UID:69e5f63d983bf
DTSTAMP:20260420T094741Z
DTSTART:20260526T180000Z
DTEND:20260526T200000Z
LOCATION:City Café\,  Gävle Drottninggatan 4\,  Gävle
SUMMARY:Fikaträff med GCF Gävleborg
DESCRIPTION:Fikaträff på City Café\,  sista tisdagen varje månad kl.18-
 20.\nhttps://gyncancerforbundet.se/events/fikatraff-med-gcf-gavleborg-10/
URL:https://gyncancerforbundet.se/events/fikatraff-med-gcf-gavleborg-10/
END:VEVENT
END:VCALENDAR