BEGIN:VCALENDAR
VERSION:2.0
PRODID:-//eventon.com NONSGML v1.0//EN
CALSCALE:GREGORIAN
METHOD:PUBLISH
BEGIN:VEVENT
UID:69e5f60823d72
DTSTAMP:20260420T094648Z
DTSTART:20260428T180000Z
DTEND:20260428T200000Z
LOCATION:City Café\,  Gävle Drottninggatan 4\,  Gävle
SUMMARY:Fikaträff med GCF Gävleborg
DESCRIPTION:Fikaträff på City Café\,  sista tisdagen varje månad kl.18-
 20.\nhttps://gyncancerforbundet.se/events/fikatraff-med-gcf-gavleborg-9/
URL:https://gyncancerforbundet.se/events/fikatraff-med-gcf-gavleborg-9/
END:VEVENT
END:VCALENDAR