BEGIN:VCALENDAR
VERSION:2.0
PRODID:-//eventon.com NONSGML v1.0//EN
CALSCALE:GREGORIAN
METHOD:PUBLISH
BEGIN:VEVENT
UID:69e60f1750263
DTSTAMP:20260420T113343Z
DTSTART:20260805T170000Z
DTEND:20260805T180000Z
LOCATION:Gävle sjukhus
SUMMARY:Vattengympa med GCF Gävleborg
DESCRIPTION:Vattengymnastiken sker på Gävle sjukhus\,  träningsbassänge
 n plan 3\,  varje onsdag kl.17. Anmälan till maja.hemstrom@gmail.com\nhttp
 s://gyncancerforbundet.se/events/vattengympa-med-gcf-gavleborg-16/
URL:https://gyncancerforbundet.se/events/vattengympa-med-gcf-gavleborg-16/
END:VEVENT
END:VCALENDAR