BEGIN:VCALENDAR
VERSION:2.0
PRODID:-//eventon.com NONSGML v1.0//EN
CALSCALE:GREGORIAN
METHOD:PUBLISH
BEGIN:VEVENT
UID:69e767566c818
DTSTAMP:20260421T120230Z
DTSTART:20260415T170000Z
DTEND:20260415T180000Z
LOCATION:Gävle sjukhus
SUMMARY:Vattengympa med GCF Gävleborg
DESCRIPTION:Vattengymnastiken sker på Gävle sjukhus\,  träningsbassänge
 n plan 3\,  varje onsdag kl.17. Anmälan till maja.hemstrom@gmail.com\nhttp
 s://gyncancerforbundet.se/events/vattengympa-med-gcf-gavleborg-10/
URL:https://gyncancerforbundet.se/events/vattengympa-med-gcf-gavleborg-10/
END:VEVENT
END:VCALENDAR