BEGIN:VCALENDAR
VERSION:2.0
PRODID:-//eventon.com NONSGML v1.0//EN
CALSCALE:GREGORIAN
METHOD:PUBLISH
BEGIN:VEVENT
UID:69e73b110fe5d
DTSTAMP:20260421T085337Z
DTSTART:20230913T170000Z
DTEND:20230913T190000Z
LOCATION:Nya Cirkus Djurgårdsslätten 43-45\,  Stockholm
SUMMARY:Föreläsning med Monika Björn\,  Stockholm
DESCRIPTION:Gyncancerförbundet bjuder medlemmar på föreläsning med Moni
 ka Björn.  Nämn ordet klimakteriet och de flesta tänker på något nega
 tivt. Men så behöver det inte vara! Författaren och träningsexperten Mo
 nika Björn pratar med både humor och allvar om hur vi kan påverka vårt 
 välmående. Vid frågor Petra orjanpetra@hotmail.com 073-1565979 Anmälan 
 och betalning[..]\nhttps://gyncancerforbundet.se/events/forelasning-med-mon
 ika-bjorn-stockholm/
URL:https://gyncancerforbundet.se/events/forelasning-med-monika-bjorn-stockholm/
END:VEVENT
END:VCALENDAR