BEGIN:VCALENDAR
VERSION:2.0
PRODID:-//eventon.com NONSGML v1.0//EN
CALSCALE:GREGORIAN
METHOD:PUBLISH
BEGIN:VEVENT
UID:69e73a463694f
DTSTAMP:20260421T085014Z
DTSTART:20231018T170000Z
DTEND:20231018T183000Z
LOCATION:Scalateatern Västra Torggatan 1\,  Karlstad
SUMMARY:Föreläsning med Klas Hallberg\,  Karlstad
DESCRIPTION:Gyncancerförbundet bjuder medlemmarna på föreläsning med Kl
 as Hallberg ” Nu släpper vi loss endorfinerna och skrattar oss hesa och 
 gör oss påminda att vi ska leva innan vi dör”. Vid frågor kontakta Pe
 tra orjanpetra@hotmail.com 073-1565979 Anmäl och betala nedan och skicka m
 ejla sedan till Gyncancerförbundets kassör med kvitto så får[..]\nhttps
 ://gyncancerforbundet.se/events/forelasning-med-klas-hallberg-karlstad/
URL:https://gyncancerforbundet.se/events/forelasning-med-klas-hallberg-karlstad/
END:VEVENT
END:VCALENDAR