BEGIN:VCALENDAR
VERSION:2.0
PRODID:-//eventon.com NONSGML v1.0//EN
CALSCALE:GREGORIAN
METHOD:PUBLISH
BEGIN:VEVENT
UID:69e5e209b9858
DTSTAMP:20260420T082129Z
DTSTART:20251210T090000Z
DTEND:20251210T160000Z
LOCATION:Digitalt
SUMMARY:RCC Stockholm/Gotland bjuder in till digital sändning
DESCRIPTION:Med gemensamma insatser har vi tagit viktiga steg i arbetet med
  den sjukvårdsregionala cancerplanen för Stockholm och Gotland. Välkomme
 n att ta del av framsteg\,  lärdomar och panelsamtal!   Datum: 10 decembe
 r Tid: 09:00-16:00 Plats: Digitalt   Dagen modereras av Kattis Ahlström o
 ch bland medverkande finns företrädare för politik\,  hälso- och[..]\nh
 ttps://gyncancerforbundet.se/events/rcc-stockholm-gotland-bjuder-in-till-di
 gital-sandning/
URL:https://gyncancerforbundet.se/events/rcc-stockholm-gotland-bjuder-in-till-digital-sandning/
END:VEVENT
END:VCALENDAR