BEGIN:VCALENDAR
VERSION:2.0
PRODID:-//eventon.com NONSGML v1.0//EN
CALSCALE:GREGORIAN
METHOD:PUBLISH
BEGIN:VEVENT
UID:69e74d4d93b06
DTSTAMP:20260421T101125Z
DTSTART:20251114T140000Z
DTEND:20251114T180000Z
LOCATION:Kraftens hus Göteborg Skånegatan 16\,  Göteborg
SUMMARY:Workshop "Livskompass vid svår sjukdom" med GCF Västra Götaland
DESCRIPTION:7 av 14 platser är dedikerade till medlemmar i Gyncancerförbu
 ndet. Som medlem i Gyncancerförbundet sker anmälan till Birgitta Bergkvis
 t senast 12 november: e-post: baebbaeb@gmail.com eller telefon: 073-839 70 
 36. Pdf för utskrift\nhttps://gyncancerforbundet.se/events/workshop-livsko
 mpass-vid-svar-sjukdom-i-goteborg/
URL:https://gyncancerforbundet.se/events/workshop-livskompass-vid-svar-sjukdom-i-goteborg/
END:VEVENT
END:VCALENDAR