BEGIN:VCALENDAR
VERSION:2.0
PRODID:-//eventon.com NONSGML v1.0//EN
CALSCALE:GREGORIAN
METHOD:PUBLISH
BEGIN:VEVENT
UID:69e5e5f609909
DTSTAMP:20260420T083814Z
DTSTART:20251120T000000Z
DTEND:20251120T000000Z
LOCATION:Mocca Deli Stortorget 7
SUMMARY:Bio & Pizza med GCF Örebro - ändrat till Mocca Deli
DESCRIPTION:Bio med Pizza på Mocca Deli Återkommer om tid och film. Egen 
 kostnad för aktiviteten 100kr\,  betalas med swish.\nhttps://gyncancerforb
 undet.se/events/bio-pizza-med-gcf-orebro/
URL:https://gyncancerforbundet.se/events/bio-pizza-med-gcf-orebro/
END:VEVENT
END:VCALENDAR