BEGIN:VCALENDAR
VERSION:2.0
PRODID:-//eventon.com NONSGML v1.0//EN
CALSCALE:GREGORIAN
METHOD:PUBLISH
BEGIN:VEVENT
UID:69e74c26c38f6
DTSTAMP:20260421T100630Z
DTSTART:20251014T180000Z
DTEND:20251014T000000Z
LOCATION:Restaurang Så mycket mer Klostergatan 2\,  Örebro
SUMMARY:Fikaträff GCF Örebro
DESCRIPTION:Cafébesök på Så mycket mer GCF bjuder på fika med macka/sa
 llad och dryck. Anmälan senast onsdagen den 8/10.\nhttps://gyncancerforbun
 det.se/events/fikatraff-gcf-orebro-2/
URL:https://gyncancerforbundet.se/events/fikatraff-gcf-orebro-2/
END:VEVENT
END:VCALENDAR