BEGIN:VCALENDAR
VERSION:2.0
PRODID:-//eventon.com NONSGML v1.0//EN
CALSCALE:GREGORIAN
METHOD:PUBLISH
BEGIN:VEVENT
UID:69e5f5b95ae31
DTSTAMP:20260420T094529Z
DTSTART:20250924T100000Z
DTEND:20250925T160000Z
LOCATION:Lugnet Sporthall Falun
SUMMARY:60plus-mässan i Falun
DESCRIPTION:Gyncancerförbundet finns på plats med representanter från GC
 F Gävleborg dessa dagar mellan 10-16. Välkomna! Två roliga dagar med mas
 sor av spännande utställare För tolfte gången är det dags för 60plus 
 Mässan i Lugnet Sporthall\,  Falun. 60plus Mässan riktar sig till dig &#8
 211; aktiv kvinna eller man i mogen ålder. Alla[..]\nhttps://gyncancerforb
 undet.se/events/60plus-massan-i-falun/
URL:https://gyncancerforbundet.se/events/60plus-massan-i-falun/
END:VEVENT
END:VCALENDAR