BEGIN:VCALENDAR
VERSION:2.0
PRODID:-//eventon.com NONSGML v1.0//EN
CALSCALE:GREGORIAN
METHOD:PUBLISH
BEGIN:VEVENT
UID:69e74c28c7028
DTSTAMP:20260421T100632Z
DTSTART:20250901T170000Z
DTEND:20250901T000000Z
LOCATION:Thelins konditori Sankt Eriksgatan 43\,  Stockholm
SUMMARY:Fikaträff i Stockholm
DESCRIPTION:Välkommen på fikaträff på Thelins konditori med GCF Stockho
 lm/Uppsala! Bara att komma\,  vi bjuder på fika!\nhttps://gyncancerforbund
 et.se/events/fikatraff-med-gcf-stockholm-uppsala-11/
URL:https://gyncancerforbundet.se/events/fikatraff-med-gcf-stockholm-uppsala-11/
END:VEVENT
END:VCALENDAR