BEGIN:VCALENDAR
VERSION:2.0
PRODID:-//eventon.com NONSGML v1.0//EN
CALSCALE:GREGORIAN
METHOD:PUBLISH
BEGIN:VEVENT
UID:69e5fc95d1614
DTSTAMP:20260420T101445Z
DTSTART:20250921T120000Z
DTEND:20250921T140000Z
LOCATION:Världskulturmuséet
SUMMARY:INSTÄLLT! Medlemsträff med GCF Västra Götaland
DESCRIPTION:Tyvärr blir denna medlemsträff inställd pga sjukdom och för
  få anmälningar&#8230; Vi träffas vid huvudentrén till Världskulturmus
 éet. GCF Västra Götaland kommer vid detta tillfälle att betala årskort
  till våra medlemmar till Världskulturmuséet (för de som inte har årsk
 ort sedan tidigare) och en kopp kaffe/te i deras café. Vi får en[..]\nhtt
 ps://gyncancerforbundet.se/events/medlemstraff-med-gcf-vastra-gotaland/
URL:https://gyncancerforbundet.se/events/medlemstraff-med-gcf-vastra-gotaland/
END:VEVENT
END:VCALENDAR