BEGIN:VCALENDAR
VERSION:2.0
PRODID:-//eventon.com NONSGML v1.0//EN
CALSCALE:GREGORIAN
METHOD:PUBLISH
BEGIN:VEVENT
UID:69e5e5f02b1b8
DTSTAMP:20260420T083808Z
DTSTART:20230425T180000Z
DTEND:20230425T000000Z
LOCATION:Java - Cafe Kungsgatan 9\,  Örebro
SUMMARY:Fikaträff
DESCRIPTION:GCF Örebro bjuder in till fika träff och bjuder på det du ö
 nskar fika Hoppas vi ses Elenor ordförande\nhttps://gyncancerforbundet.se/
 events/fikatraff-2/
URL:https://gyncancerforbundet.se/events/fikatraff-2/
END:VEVENT
END:VCALENDAR