BEGIN:VCALENDAR
VERSION:2.0
PRODID:-//eventon.com NONSGML v1.0//EN
CALSCALE:GREGORIAN
METHOD:PUBLISH
BEGIN:VEVENT
UID:69e74c3ff1757
DTSTAMP:20260421T100655Z
DTSTART:20250831T120000Z
DTEND:20250831T000000Z
LOCATION:Villa Belparc A O Elliotsväg 10\,  Göteborg
SUMMARY:Lunchträff med GCF Västra Götaland
DESCRIPTION:Vi träffas på Villa Belparc vid Slottsskogen och äter något
  gott tillsammans. Föreningen bjuder på maten. Anmälan sker till Nina se
 nast 29 aug\,  tel: 0761-72 81 06. Åk kollektivt:&nbsp;1\,  2 \,  7 eller 
 8 till hållplatsen Botaniska Trädgården. Promenera:&nbsp;Gångavstånd f
 rån Göteborgs centrum.&nbsp;Från Linnéplatsen är det en promenad på c
 a 10[..]\nhttps://gyncancerforbundet.se/events/lunchtraff-villa-belparc/
URL:https://gyncancerforbundet.se/events/lunchtraff-villa-belparc/
END:VEVENT
END:VCALENDAR