BEGIN:VCALENDAR
VERSION:2.0
PRODID:-//eventon.com NONSGML v1.0//EN
CALSCALE:GREGORIAN
METHOD:PUBLISH
BEGIN:VEVENT
UID:69e5e6883f9d3
DTSTAMP:20260420T084040Z
DTSTART:20250920T100000Z
DTEND:20250920T160000Z
LOCATION:Halmstads arena växjövägen 11\,  Halmstad
SUMMARY:GCF Halland deltar på mässan “Hjärnan i centrum”
DESCRIPTION:Vi deltar i mässan &#8221;Hjärnan i centrum &#8211; hela live
 t&#8221; på Halmstads Arena\,  med information om vår förening.\nhttps:/
 /gyncancerforbundet.se/events/massan-hjarnan-i-centrum-gcf-halland-deltar/
URL:https://gyncancerforbundet.se/events/massan-hjarnan-i-centrum-gcf-halland-deltar/
END:VEVENT
END:VCALENDAR