BEGIN:VCALENDAR
VERSION:2.0
PRODID:-//eventon.com NONSGML v1.0//EN
CALSCALE:GREGORIAN
METHOD:PUBLISH
BEGIN:VEVENT
UID:69e7632eb66bb
DTSTAMP:20260421T114446Z
DTSTART:20250427T190000Z
DTEND:20250427T000000Z
LOCATION:Rådhustorget 903 26 UMEÅ
SUMMARY:Medlemsträff med GCF Västerbotten
DESCRIPTION:Vi träffas på Rådhustorget Välkomna Jessica\nhttps://gyncan
 cerforbundet.se/events/medlemstraff-med-gcf-vasterbotten-2/
URL:https://gyncancerforbundet.se/events/medlemstraff-med-gcf-vasterbotten-2/
END:VEVENT
END:VCALENDAR