BEGIN:VCALENDAR
VERSION:2.0
PRODID:-//eventon.com NONSGML v1.0//EN
CALSCALE:GREGORIAN
METHOD:PUBLISH
BEGIN:VEVENT
UID:69e5e1ec6bfb1
DTSTAMP:20260420T082100Z
DTSTART:20230503T160000Z
DTEND:20230503T190000Z
LOCATION:
SUMMARY:FÖRELÄSNING MED KAJ POLLAK
DESCRIPTION:Gyncancerförbundet bjuder sina medlemmar på denna föreläsni
 ng med Kaj Pollak på Scalateatern i Stockholm\,  ” ändra dina tankar\, 
  ändra ditt liv” Anmälan till Petra orjanpetra@hotmail.com 073-15656979
  (så länge biljetter finns kvar) Med vänlig hälsning\,  Millan och Petr
 a Kontaktpersoner avdelning Stockholm/Uppsala\nhttps://gyncancerforbundet.s
 e/events/forelasning-med-kaj-pollak/
URL:https://gyncancerforbundet.se/events/forelasning-med-kaj-pollak/
END:VEVENT
END:VCALENDAR